Workbook

Sheet Cover Page
C3: Instructions for Use
B6: Column Name for Risk Registers | C6: Action Required | E6: 1 | F6: Risk review must be conducted with - The TAP Owner and/or Delegate - Safety Representative - Executive Management Team Rep - Line Management Team Rep - HSE Team member
B7: Risk ID | C7: Auto generated when creating a new line | E7: 2 | F7: All reviews must be captured under the Version Review tab
B8: Category | C8: Pick from drop down list | E8: 3 | F8: Any risk level at with a score of 16 and above must be escalated to the HSE Manager
B9: Risk Type | C9: Pick from drop down list | E9: 4 | F9: To create a new line at the end of the table, please drag the arrow down at the right end corner of the Risk Register table
B10: Activity | C10: Complete by dot point as detailed as practicable | E10: 5 | F10: The Hazard Sub-Type tab can be used for reference
B11: Hazard | C11: Complete by dot point as detailed as practicable | E11: 6 | F11: The Risk Register to be reviewed are: - Critical Risk - Contruction Activities - Mt Holland - KWI
B12: Risk | C12: Complete by dot point as detailed as practicable
B13: Site Applicable to | C13: Pick from drop down list
B14: Consequence Category (Inherent) | C14: Pick from drop down list
B15: Consequence (Inherent) | C15: Pick from drop down list
B16: Probability (Inherent) | C16: Pick from drop down list
B17: Inherent Risk Level | C17: Auto generated values
B18: Inherent Risk Score | C18: Auto generated values
B19: Existing Controls in place | C19: Complete by dot point as detailed as practicable
B20: Consequence Category (Residual) | C20: Pick from drop down list
B21: Consequence (Residual) | C21: Pick from drop down list
B22: Probability (Residual) | C22: Pick from drop down list
B23: Residual Risk Level | C23: Auto generated values
... B30: Date of next Review | C30: Date set for next review of current risk as per below guide - Open Risk - as follows: 25% - Weekly 50% - Fortnightly 75%/Ongoing - Monthly Closed Risk - Quarterly

Sheet Version Review
D2: Initial Review Date
D3: Review Team
D4: Date of Establishment
B8: Date of Review | C8: Risk ID Reviewed | D8: Register Reviewed | E8: TAP Owner | F8: TAP Delegate | G8: HSR | H8: Executive Team | I8: Line Management | J8: HSE Team | K8: Comments | L8: Escalation Required | M8: Escalated to

Sheet Risk Matrix
F3: Covalent HSE Risk Matrix
B7: Covalent Lithium Project Execution Risk Prioritization Matrix
E9: Risk Class: | F9: Low | G9: Medium | H9: High | I9: Extreme
B11: Likelihood Descriptions & Index | F11: Qualitative Risk Level (QRL)
F12: Insignificant | G12: Minor | H12: Moderate | I12: Major | J12: Severe
B13: The event is expected to occur in most circumstances | D13: Almost Certain (>80%) | F13: 11 | G13: 16 | H13: 20 | I13: 23 | J13: 25
B14: The event will probably occur in most circumstances | D14: Likely (50-80%) | F14: 7 | G14: 12 | H14: 17 | I14: 21 | J14: 24
B15: The event is expected to occur at some time | C15: 3 | D15: Possible (25-50%) | F15: 4 | G15: 8 | H15: 13 | I15: 18 | J15: 22
B16: The event could credibly occur at some time | D16: Unlikely (1-25%) | F16: 2 | G16: 5 | H16: 9 | I16: 14 | J16: 19
B17: The event occurs infrequently, if ever in like industries | D17: Rare (<1%) | F17: 1 | G17: 3 | H17: 6 | I17: 10 | J17: 15
D19: Consequences Indices & Description | F19: 1 | G19: 2 | H19: 3 | I19: 4 | J19: 5
F20: Insignificant | G20: Minor | H20: Moderate | I20: Major | J20: Severe
C21: Health & Safety | F21: Minor injury or illness (first aid) | G21: Medical treatment or restricted duties injury or illness | H21: Lost time injury or illness | I21: Critical injury / permanent disability | J21: One or more fatalities
C22: Environment | F22: Minor environmental impact, managed within operating budgets | G22: Localised environmental impact requiring AUD 20K or more to correct | H22: Short term (< 1 yr) environmental impact requiring up to AUD 100K to correct | I22: Serious medium-term (1 - 5 yrs) environmental impact, requiring AUD 1M to AUD 5M to correct | J22: Widespread long-term environmental damage (> 5 ys), requiring > AUD 5M to study or correct in penalties
C23: Regulatory | F23: Breach of internal target or objective | G23: Breach of corporate standard, internal limit or external guideline | H23: Breach of licenses or regulation | I23: Infringement or fine. Enforcement action from the regulator | J23: Regulatory intervention or prosecution with potential Loss of operating license
C24: Reputation | F24: Reference to community consultation group; public or customer awareness exists, no public concern | G24: Adverse publicity in local media; concerns on performance raised by shareholders, government, community or customers | H24: Adverse publicity in State/Regional media; decrease in political, shareholder, community or customer support | I24: Damage to Corporate reputation at the National level; significant decrease in political, shareholder, community or customer support | J24: Damage to Corporate reputation at International level; Major loss of political, shareholder, community or customer support
C25: Production Impact (% deviation from planned LiOH production in first 2 yrs of operation) | F25: <1% of planned LiOH production | G25: 1 - 5% of planned LiOH production | H25: 5 - 10% of planned LiOH production | I25: 10 - 30% of planned LiOH production | J25: > 30% of planned LiOH production
C26: Schedule (Impact to RFSU or Key Project Milestone) | F26: < 1 week | G26: 1 to 2 weeks | H26: 2 weeks to 6 weeks | I26: 6 weeks to 4 months | J26: > 4 months
C27: Financial (CAPEX or NPV) | F27: < AUD 500k | G27: AUD 500k to AUD 5M | H27: AUD 5M to AUD 20M | I27: AUD 20M to AUD 60M | J27: > AUD 60M

Sheet Hazard Sub-Type
C2: Hazard Sub Type
B5: Type | C5: Description
B6: Aesthetics | C6: Physical attributes, e.g. size, shape, colour and appearance
B7: Air | C7: Emissions to air, dust, vapours, air pollution, abrasive blasting, gas release
B8: Biomechanical | C8: Manual handling, potential for muscles to be excessively pushing, pulling, holding, restraining loads or repetitive work
B9: Biological | C9: Bodily fluids, bacteria, viruses, insects, plants, fungi, animals
B10: Chemical | C10: Inhalation, absorption, ingestion of a liquid, gas, dust or substance, or may cause explosion, fire or long term chronic illness
B11: Electrical | C11: Contact with electrical energy
B12: Energy | C12: Gas usage, electricity usage, energy efficiency, diesel usage
B13: Environment | C13: Contaminated flaura, acid sulphate soils, bushfire, soil pathogens (dieback), hygiene & cleanliness (vehicle, plant), artefacts / heritage, contamination, excessive or inefficient water use, non-compliance with utilities licence, Conservation area works or monitoring, weeds, feral animals, hygiene & cleanliness (vehicle, plant), protected flora, protected fauna
B14: Ergonomic | C14: Manual handling, incorrectly designed workstations, audio and visual alarms, colour coding mechanisms
B15: Gravitational | C15: Fall from heights or objects falling from heights, slip/trip/falls on same level, collision/impact to personnel/equipment/building
B16: Lighting | C16: Inadequate or insufficient lighting
... B27: Other | C27: Any other hazard that may not be defined above

Sheet Critical Risk
G2: Covalent Critical Risk Register
K4: Inherent Risk Assessment | R4: Residual Risk Assessment
C5: Activity | D5: Risk ID | E5: Category | F5: Risk Type | G5: Activity | H5: Hazard | I5: Risk | J5: Site Applicable to | K5: Consequence Category (Inherent) | L5: Consequence (Inherent) | M5: Probability (Inherent) | N5: Inherent Risk Level | O5: Inherent Risk Score | P5: Inherent Risk Rating | Q5: Existing Controls in place | R5: Consequence Category (Residual) | S5: Consequence (Residual) | T5: Probability (Residual) | U5: Residual Risk Level | V5: Residual Risk Score | W5: Residual Risk Rating | X5: Treatment Action Plan | Y5: TAP Status | Z5: TAP Owner (Accountable) | AA5: TAP Delegate (Responsible) | AB5: Date Endorsed | AC5: Date of next Review
C6: 10000 20000 | D6: =TEXT(ROW(A1),"CR-00") -> CR-01 | E6: Safety | F6: Critical | G6: Confined Space Entry | H6: • Hazardous substances • Lighting • Work Environment • Use of energised equipment in a confined space • Conducting hot work in a confined space | I6: • Critical Injury • Permanent disability • One or more fatalities | J6: KWI | K6: Health & Safety | L6: Severe | M6: Likely | N6: =IFERROR(INDEX(Matrix!$C$2:$G$6,MATCH(M6,Matrix!$B$2:$B$6,0),MATCH(L6,Matrix!$C$1:$G$1,0)),"") -> Extreme | O6: =IFERROR(INDEX(Matrix!$C$9:$G$13,MATCH(M6,Matrix!$B$9:$B$13,0),MATCH(L6,Matrix!$C$8:$G$8,0)),"") -> 24 | P6: =CONCATENATE(N6," ",O6) -> Extreme 24 | Q6: • Confined Space Entry Rescue Plan developed in accordance with AS2865 • Confined Space Entry Permit (Permit to Work system to be in place and used for all confined Space entry activities) • Confined Spaces Procedure • Confined Space Register • Critical Risk Management Standard Templace - Standard 6 - Confined Spaces Critical Control Verification • Confined Space Rescue - Trigger Response Plan Guideline (Tarp) ' Forced ventilation where required, - Ventilation developed in accordance with AS2865and rescue plan - Confined space entrants wear a harness (as assessed) to facilitate rescue in the event of an emergency. - Gas testing prior to entry to confined space and continuously when in a confined space - JHA to include Work in Restricted Work Spaces activities, risks, permitting requirements and controls. Use of energised equipment in a CS: '- Isolation Procedure - SWMS to include Work in Restricted Work Spaces activities, risks, permitting requirements and controls. - Permit to Work system to be in place and used for all confined Space entry activities. - Test for Dead Conducting hot work in a confined space: '- Gas testing prior to entry to confined space and continuously when in a confined space - Forced ventilation where required | R6: Health & Safety | S6: Severe | T6: Unlikely | U6: =IFERROR(INDEX(Matrix!$C$2:$G$6,MATCH(T6,Matrix!$B$2:$B$6,0),MATCH(S6,Matrix!$C$1:$G$1,0)),"") -> High | V6: =IFERROR(INDEX(Matrix!$C$9:$G$13,MATCH(T6,Matrix!$B$9:$B$13,0),MATCH(S6,Matrix!$C$8:$G$8,0)),"") -> 19 | W6: =CONCATENATE(U6," ",V6) -> High 19 | Y6: Actions in Progress - 75% | Z6: EAS Manager | AA6: H&S Managers
D7: =TEXT(ROW(A2),"CR-00") -> CR-02 | E7: Safety | F7: Critical | G7: Working at Height | H7: • Climatic natural events • Gravitational • Work Environment | I7: • Critical Injury • Permanent disability • One or more fatalities | J7: KWI | K7: Health & Safety | L7: Severe | M7: Likely | N7: =IFERROR(INDEX(Matrix!$C$2:$G$6,MATCH(M7,Matrix!$B$2:$B$6,0),MATCH(L7,Matrix!$C$1:$G$1,0)),"") -> Extreme | O7: =IFERROR(INDEX(Matrix!$C$9:$G$13,MATCH(M7,Matrix!$B$9:$B$13,0),MATCH(L7,Matrix!$C$8:$G$8,0)),"") -> 24 | P7: =CONCATENATE(N7," ",O7) -> Extreme 24 | Q7: • Working At Height Rescue Plan Form • Working At Height Permit • Working At Height Fall Injury Prevention System (Fips) Register • Critical Risk Management Standard Template - Standard 4 - Working At Heights • Heights Rescue - Trigger Response Plan Guideline (Tarp) '- No scaffolding activities to take place during high winds and storms - Extreme Weather management plan includes steps for removal of scaffold planks in the event of a cyclone and inspection before reinstatement. Grid mesh inspection on handover of the task completion, - Grid mesh to be secured with huck bolt / proprietary clip in all four corners as a minimum - Grid mesh removal process/ permit '- All rope access personnel must have in-date IRATA certification - Use only certified and recognised anchor points (15kn rated) ICOP Part 2 - Section 2.7.9, Part 3 - Annex F, Contractor RA operational Procedure Section 19 - Rope Access Pre-start checklist have been completed - SWMS, Rescue Plan and 5x5 has been developed agreed and in place - All rope access equipment shall undergo a pre-use and 6 monthly detailed inspection - Adhere to Contractor rope access operational procedure and IRATA International Code of Practice (ICOP) - WAH procedure in place - PTW system in place | R7: Health & Safety | S7: Severe | T7: Unlikely | U7: =IFERROR(INDEX(Matrix!$C$2:$G$6,MATCH(T7,Matrix!$B$2:$B$6,0),MATCH(S7,Matrix!$C$1:$G$1,0)),"") -> High | V7: =IFERROR(INDEX(Matrix!$C$9:$G$13,MATCH(T7,Matrix!$B$9:$B$13,0),MATCH(S7,Matrix!$C$8:$G$8,0)),"") -> 19 | W7: =CONCATENATE(U7," ",V7) -> High 19 | Y7: Actions in Progress - 50% | Z7: EAS Manager | AA7: H&S Managers
D8: =TEXT(ROW(A3),"CR-00") -> CR-03 | E8: Safety | F8: Critical | G8: Cranes and Lifting | H8: • Climatic natural events • Gravitational • Work Environment | I8: • Critical Injury • Permanent disability • One or more fatalities | J8: KWI | K8: Health & Safety | L8: Severe | M8: Likely | N8: =IFERROR(INDEX(Matrix!$C$2:$G$6,MATCH(M8,Matrix!$B$2:$B$6,0),MATCH(L8,Matrix!$C$1:$G$1,0)),"") -> Extreme | O8: =IFERROR(INDEX(Matrix!$C$9:$G$13,MATCH(M8,Matrix!$B$9:$B$13,0),MATCH(L8,Matrix!$C$8:$G$8,0)),"") -> 24 | P8: =CONCATENATE(N8," ",O8) -> Extreme 24 | Q8: • Cranes and lifting register • Covalent lithium crane assembly checklist • Non-slewing crane theory and practical assessment • Non-slewing crane assessor guide • Vehicle loading crane theory and practical assessment • Vehicle loading crane assessor guide • Critical risk management standard templace - standard 5 - cranes and lifting • Critical lift plan to be reviewed/approved by Area Authority '-Overload protection on the cranes - Lifting charts in all crane cabins - Job planning includes lift plan - Designated crane radio channel in place - Communication to all nearby workgroups - planned activities in the area - Personnel cage procedure and approvals: Certified and registered Personnel cage includes tags and SWL - Daily pre-start checks & recording systems - Manufacturers test certification to accompany all lifting and rigging equipment. - Visual inspections to be conducted prior to each use of all lifting equipment including lifting lugs - Registration, certification, annual inspection, testing and maintenance documentation required prior to mobilisation of lifting and rigging equipment. - Adequate storage facility provided for all lifting equipment - Lifting equipment to be inspected at 3 monthly intervals by a competent person, tagged and documented in a Rigging Register. " - High Risk License for all crane operators, dogman and riggers and Verification of competency - Permit to work as determined by the lifting category - Designated SME and or qualified supervisor to determine the methods, equipment and develop plans for all lifting - Ticketed and VoC’d riggers and dogman - Engineered lifting frames for regular lifts - Daily weather forecast at prestart included in job planning - Wind speed cut off for crane operations - Positive Communication – Lifting activity stops if communication lost occur - Designated crane radio channel in place (as assessed)." - Spotters to be considered on all occasions during operations. - SWMS to include Crane activities, congestion risks and controls. - Designate a qualified SME and or supervisor to determine the methods, equipment and develop plans for all lifting operations. - Critical lift procedure to be reviewed/approved by Area authority" - Ticketed and VOC crane operator with Personnel cage experience" - Critical Lift Procedure - Personnel cage Procedure - Ticketed and VOC crane operator with Personnel cage experience" - Permit to Work for man cage operations | R8: Health & Safety | S8: Severe | T8: Unlikely | U8: =IFERROR(INDEX(Matrix!$C$2:$G$6,MATCH(T8,Matrix!$B$2:$B$6,0),MATCH(S8,Matrix!$C$1:$G$1,0)),"") -> High | V8: =IFERROR(INDEX(Matrix!$C$9:$G$13,MATCH(T8,Matrix!$B$9:$B$13,0),MATCH(S8,Matrix!$C$8:$G$8,0)),"") -> 19 | W8: =CONCATENATE(U8," ",V8) -> High 19 | Y8: Ongoing | Z8: EAS Manager | AA8: H&S Managers
D9: =TEXT(ROW(A4),"CR-00") -> CR-04 | E9: Health | F9: Critical | G9: Vehicles and Driving (includes JMP) | H9: • Ergonomics • Personal Behaviour • Lighting • Vehicular energy • Breakdown of communication between drivers • Mechanical failure of vehicle • Speeding • Environmental conditions (including extreme weather) • Congested work area • Unexpected movement of vehicle (e.g. swerving) • Poor loading practices | I9: • Critical Injury • Permanent disability • One or more fatalities | J9: KWI | K9: Health & Safety | L9: Severe | M9: Likely | N9: =IFERROR(INDEX(Matrix!$C$2:$G$6,MATCH(M9,Matrix!$B$2:$B$6,0),MATCH(L9,Matrix!$C$1:$G$1,0)),"") -> Extreme | O9: =IFERROR(INDEX(Matrix!$C$9:$G$13,MATCH(M9,Matrix!$B$9:$B$13,0),MATCH(L9,Matrix!$C$8:$G$8,0)),"") -> 24 | P9: =CONCATENATE(N9," ",O9) -> Extreme 24 | Q9: • Light vehicle operation verification of competency • Light vehicle compliance inspection checklist • Light vehicle prestart check • Light vehicle inspection form • Light vehicle/truck inspection form • Light vehicle operation procedure • Vehicle and driving procedure • Light vehicle theory and practical VOC • Light vehicle theory assessor guide • Critical risk management standard template - standard 3 - vehicles and driving critical control verification 'Drivers licenses reviewed and entered into training records. - Site Assessment of drivers & onsite verification of competency. - Regular reviews and updates to licence expiry dates - D&A testing regime in place - Adherance to FFW and Fatigue protocols. -Traffic management plan - site road design & parking layout. - Site signage - Inductions & expectations reinforced - Health and safety management plan, VOC and Licensing requirements. - Journey Management Plans as assessed or for those driving distance. - Work place inspections, Task Obs. - Active monitoring of fatigue through workhours, rostered and employee awareness - Daily pre-start inspection on vehicle '- Road signs in place - Regulated speed and minimise vehicle movement, monitor and assess. - Traffic Management Plan '- Weather Reports - Traffic Management Plan - Lighting plants installed where required - Change in speed limit between day and night - Restrictions on moving equipment at dawn and dusk to reduce interaction with wildlife - SIMSOPS review prior to starting work '-Heavy vehicles are secured as per OEM requirements (chocks for parking if assessed.) - Reverse parking all vehicles so forward moving on leaving parking - first movement forward | R9: Health & Safety | S9: Severe | T9: Unlikely | U9: =IFERROR(INDEX(Matrix!$C$2:$G$6,MATCH(T9,Matrix!$B$2:$B$6,0),MATCH(S9,Matrix!$C$1:$G$1,0)),"") -> High | V9: =IFERROR(INDEX(Matrix!$C$9:$G$13,MATCH(T9,Matrix!$B$9:$B$13,0),MATCH(S9,Matrix!$C$8:$G$8,0)),"") -> 19 | W9: =CONCATENATE(U9," ",V9) -> High 19 | Y9: Actions in Progress - 25% | Z9: EAS Manager | AA9: H&S Managers
D10: =TEXT(ROW(A5),"CR-00") -> CR-05 | E10: Safety | F10: Critical | G10: High Voltage Management | H10: • Electrical energy • Personal Behaviour • Quality | I10: • Critical Injury • Permanent disability • One or more fatalities | J10: KWI | K10: Health & Safety | L10: Severe | M10: Likely | N10: =IFERROR(INDEX(Matrix!$C$2:$G$6,MATCH(M10,Matrix!$B$2:$B$6,0),MATCH(L10,Matrix!$C$1:$G$1,0)),"") -> Extreme | O10: =IFERROR(INDEX(Matrix!$C$9:$G$13,MATCH(M10,Matrix!$B$9:$B$13,0),MATCH(L10,Matrix!$C$8:$G$8,0)),"") -> 24 | P10: =CONCATENATE(N10," ",O10) -> Extreme 24 | Q10: • Electrical safety management plan • Electrical tag and test register • Appointment letter - electrical supervisor • Critical risk management standard template - standard 2 - electrical safety - Guarding on all equipment - Over speed on high speed rotating equipment | R10: Health & Safety | S10: Severe | T10: Unlikely | U10: =IFERROR(INDEX(Matrix!$C$2:$G$6,MATCH(T10,Matrix!$B$2:$B$6,0),MATCH(S10,Matrix!$C$1:$G$1,0)),"") -> High | V10: =IFERROR(INDEX(Matrix!$C$9:$G$13,MATCH(T10,Matrix!$B$9:$B$13,0),MATCH(S10,Matrix!$C$8:$G$8,0)),"") -> 19 | W10: =CONCATENATE(U10," ",V10) -> High 19 | Y10: Actions in Progress - 25% | Z10: EAS Manager | AA10: H&S Managers
D11: =TEXT(ROW(A6),"CR-00") -> CR-06 | E11: Safety | F11: Critical | G11: Dropped Objects | H11: • Climatic natural events • Gravitational • Work Environment | I11: • Critical Injury • Permanent disability • One or more fatalities | J11: KWI | K11: Health & Safety | L11: Severe | M11: Likely | N11: =IFERROR(INDEX(Matrix!$C$2:$G$6,MATCH(M11,Matrix!$B$2:$B$6,0),MATCH(L11,Matrix!$C$1:$G$1,0)),"") -> Extreme | O11: =IFERROR(INDEX(Matrix!$C$9:$G$13,MATCH(M11,Matrix!$B$9:$B$13,0),MATCH(L11,Matrix!$C$8:$G$8,0)),"") -> 24 | P11: =CONCATENATE(N11," ",O11) -> Extreme 24 | Q11: - Tools & materials to be adequately secured to prevent falling. - Personal tool lanyards (Secondary securing mechanisms) to be utilised. '- JHA to be completed to determine dropped object risks and controls. - Barricade off the area below the work - Edge protection with exclusion zones and/or overhead protection as a secondary means of control. - Drop mats for extended work practices '- Permit to work includes hand back process which confirms that site is returned to original condition and clear of tools - Supervision - Workplace pre start and periodic inspection '- Tool bags - Use of Gin Wheels, cranes, cages '- Exclusion zones established underneath all rope access working areas - All tools must have a lanyard which attached to a secure point on the harness or suspended on a separate ropes. Over 8Kg tools must be suspended independently from the user. ICOP Part 3 - Annex M, Contractor rope access operational procedure Section 17.1 | R11: Health & Safety | S11: Severe | T11: Unlikely | U11: =IFERROR(INDEX(Matrix!$C$2:$G$6,MATCH(T11,Matrix!$B$2:$B$6,0),MATCH(S11,Matrix!$C$1:$G$1,0)),"") -> High | V11: =IFERROR(INDEX(Matrix!$C$9:$G$13,MATCH(T11,Matrix!$B$9:$B$13,0),MATCH(S11,Matrix!$C$8:$G$8,0)),"") -> 19 | W11: =CONCATENATE(U11," ",V11) -> High 19 | Y11: Actions in Progress - 25% | Z11: EAS Manager | AA11: H&S Managers
D12: =TEXT(ROW(A7),"CR-00") -> CR-07 | E12: Health | F12: Critical | G12: Hazardous Substances | H12: • Hazardous substances • Natural Environment | I12: • Critical Injury • Permanent disability • One or more fatalities | J12: KWI | K12: Health & Safety | L12: Severe | M12: Likely | N12: =IFERROR(INDEX(Matrix!$C$2:$G$6,MATCH(M12,Matrix!$B$2:$B$6,0),MATCH(L12,Matrix!$C$1:$G$1,0)),"") -> Extreme | O12: =IFERROR(INDEX(Matrix!$C$9:$G$13,MATCH(M12,Matrix!$B$9:$B$13,0),MATCH(L12,Matrix!$C$8:$G$8,0)),"") -> 24 | P12: =CONCATENATE(N12," ",O12) -> Extreme 24 | Q12: • Hazardous chemical application form • Hazardous material management procedure • Hazardous chemical register • Mt holland & refinery - hazardous materials management procedure • Theft of detonators and explosives, hazardous chemicals, plant equipment and fuels - trigger response plan guideline (tarp) • Hazardous materials plan - liberty industrial 'Read and understand SWMS - Product/Chemical Risk Assessment and SWMS to determine the need for the substance and if it can be substituted for a safer product. - Ensure the area is well ventilated. - PPE appropriate for the product and Job to be worn at all times and adequate ventilation when working in areas of limited ventilation. - Eliminate all ignition sources such as cigarettes, flames, mobile phones from storage areas. - Chemical approval process -SDS available at the location of works 'Cylinders secured on vehicles when transported, cages for transportation - Cylinders transported in purpose built trolleys - Compliance with AS 4332-2004 (The storage and handling of gases in cylinders). - Cylinders to be stored in upright position in a racking system using a non abrasive, coated chain to hold in position. '-Bunding - storage and generator (Infrastructure design at refinery to AS) -Operational controls -Interlock generator operation with diesel storage feed pump -Spill kits and training in use. -Pre start regular inspections -Inspection of plant & full commissioning -Concrete/ dedicated bunded usage and or refuelling areas. -Work place inspections, Task Obs, Availability of SDS. Chemalert and following site access requirements and controls. - Ensure LPG storage area is provided which complies with DG requirements (including exclusion of ignition sources, separation distances, etc.) | R12: Health & Safety | S12: Severe | T12: Unlikely | U12: =IFERROR(INDEX(Matrix!$C$2:$G$6,MATCH(T12,Matrix!$B$2:$B$6,0),MATCH(S12,Matrix!$C$1:$G$1,0)),"") -> High | V12: =IFERROR(INDEX(Matrix!$C$9:$G$13,MATCH(T12,Matrix!$B$9:$B$13,0),MATCH(S12,Matrix!$C$8:$G$8,0)),"") -> 19 | W12: =CONCATENATE(U12," ",V12) -> High 19 | Y12: Actions in Progress - 25% | Z12: EAS Manager | AA12: H&S Managers
D13: =TEXT(ROW(A8),"CR-00") -> CR-08 | E13: Safety | F13: Critical | G13: Entanglement and Crushing | H13: • Gravitational • Mechanical Energy • Work Environment | I13: • Critical Injury • Permanent disability • One or more fatalities | J13: KWI | K13: Health & Safety | L13: Severe | M13: Likely | N13: =IFERROR(INDEX(Matrix!$C$2:$G$6,MATCH(M13,Matrix!$B$2:$B$6,0),MATCH(L13,Matrix!$C$1:$G$1,0)),"") -> Extreme | O13: =IFERROR(INDEX(Matrix!$C$9:$G$13,MATCH(M13,Matrix!$B$9:$B$13,0),MATCH(L13,Matrix!$C$8:$G$8,0)),"") -> 24 | P13: =CONCATENATE(N13," ",O13) -> Extreme 24 | Q13: - Adequate and compliant Barriers. - Controls as per safety plan/JHA/SWMS - Permit to work - working at height, Spotters - Training in W@H, Scaffolding, Crane usage and EWP usage - PPE - fall restraint, fall arrest, fall prevention correct & maintained. - EWP fitted with correct proximity devices. - Work place inspections and task observations conducted - Compliance to AS 1657, AS1892, AS4576 | R13: Health & Safety | S13: Severe | T13: Unlikely | U13: =IFERROR(INDEX(Matrix!$C$2:$G$6,MATCH(T13,Matrix!$B$2:$B$6,0),MATCH(S13,Matrix!$C$1:$G$1,0)),"") -> High | V13: =IFERROR(INDEX(Matrix!$C$9:$G$13,MATCH(T13,Matrix!$B$9:$B$13,0),MATCH(S13,Matrix!$C$8:$G$8,0)),"") -> 19 | W13: =CONCATENATE(U13," ",V13) -> High 19 | Y13: Actions in Progress - 25% | Z13: EAS Manager | AA13: H&S Managers
D14: =TEXT(ROW(A9),"CR-00") -> CR-09 | E14: Safety | F14: Critical | G14: Excavations and Penetrations | H14: • Climatic natural events • Gravitational • Work Environment | I14: • Critical Injury • Permanent disability • One or more fatalities | J14: KWI | K14: Health & Safety | L14: Severe | M14: Likely | N14: =IFERROR(INDEX(Matrix!$C$2:$G$6,MATCH(M14,Matrix!$B$2:$B$6,0),MATCH(L14,Matrix!$C$1:$G$1,0)),"") -> Extreme | O14: =IFERROR(INDEX(Matrix!$C$9:$G$13,MATCH(M14,Matrix!$B$9:$B$13,0),MATCH(L14,Matrix!$C$8:$G$8,0)),"") -> 24 | P14: =CONCATENATE(N14," ",O14) -> Extreme 24 | Q14: • Excavation and penetration permit • Excavation and penetration procedure • Critical risk management standard template - standard 9 - ground disturbance and excavations critical control verification '- JSA to include earthworks activities, risks and controls. - Excavation and Surface Penetration Risk assessment - GIS drawings for known services - Hand digging around buried services - Excavation permit - P&ID reviewed as part of the excavation activity - Pipe work is above ground on site except for under roads - Isolation procedure for pipe work change out - Excavation and Surface Penetration Risk assessment. '- Work area to be appropriately barricaded, delineated to prevent unnecessary traffic, plant or personnel in accordance with Site Traffic Management Plan. - Appropriate signage to be used on all approach sides. All services terminated. Review all in-ground drawings available prior to each excavation task. -Use a spotter when digging to identify any in-ground identifiers of services before impact. -Management of the excavation via barricading and signage. -Task JHA/SWMS, Work place inspections, Task Obs. - Operators to have necessary tickets and VOCs in place prior to commencement of task. - Hand digging around buried services" - Regular inspections of excavations - escape path put in place for fauna - Fauna barricades put in place - Engineers define shoring requirements - Excavation sides to be appropriately shored - Confined space permit if greater than a specified depth (AS2865) or deemed to be a confined space" - Excavation and penetration certificate - Exit ramps for all trenches left overnight - Auger holes capped at night - Trench fauna inspection for all trenches - Work area to be appropriately barricaded, delineated to prevent unnecessary traffic, plant or personnel in accordance with Site Traffic Management Plan. | R14: Health & Safety | S14: Severe | T14: Unlikely | U14: =IFERROR(INDEX(Matrix!$C$2:$G$6,MATCH(T14,Matrix!$B$2:$B$6,0),MATCH(S14,Matrix!$C$1:$G$1,0)),"") -> High | V14: =IFERROR(INDEX(Matrix!$C$9:$G$13,MATCH(T14,Matrix!$B$9:$B$13,0),MATCH(S14,Matrix!$C$8:$G$8,0)),"") -> 19 | W14: =CONCATENATE(U14," ",V14) -> High 19 | Y14: Actions in Progress - 25% | Z14: EAS Manager | AA14: H&S Managers
D15: =TEXT(ROW(A10),"CR-00") -> CR-10 | E15: Safety | F15: Critical | G15: Hazardous Energy | H15: • Electrical Energy • Gravitational Energy • Mechanical Energy • Pressure • Radiation Energy •Thermal/Fire/Explosion - Use of faulty/damaged equipment, - Unknown energy source. - Poor electrical installations - Inexperienced personnel - Unauthorised equipment being used - Unauthorised modification to electrical equipment - Poor storage and lack of maintenance. - Incorrect equipment / tool used for the task. - Equipment's not isolated correctly - Equipment / tool used in the incorrect manner. - Working on live equipment e.g., fault finding activities - Incorrectly isolated equipment - Inexperienced personnel - Personnel taking shortcuts | I15: • Critical Injury • Permanent disability • One or more fatalities | J15: KWI | K15: Health & Safety | L15: Severe | M15: Likely | N15: =IFERROR(INDEX(Matrix!$C$2:$G$6,MATCH(M15,Matrix!$B$2:$B$6,0),MATCH(L15,Matrix!$C$1:$G$1,0)),"") -> Extreme | O15: =IFERROR(INDEX(Matrix!$C$9:$G$13,MATCH(M15,Matrix!$B$9:$B$13,0),MATCH(L15,Matrix!$C$8:$G$8,0)),"") -> 24 | P15: =CONCATENATE(N15," ",O15) -> Extreme 24 | Q15: • Critical Risk Management Standard Template - Standard 1 - Exposure To Hazardous Energy Critical Control Verification 'Permit to work system - Isolation Procedure - Lock out/tag out - P&ID include identification of the equipment - Isolation verification for each isolation by competant for the maintenance personnel - Isolation list includes all isolations that have been done - Isolation tags for each isolation point (matches the permit number) - approved isolation authority personnel undertake isolation and the tagging of equipment. '- All electrical installations and equipment shall comply with AS/NZS 3000-2007 electrical requirements. '- All tools and equipment that are used shall be maintained in accordance with manufacturers recommendations, have required guards in place, and are in good working order. '- Visual inspection prior to use to ensure integrity, guards are attached and quarterly tag affixed. - Quarterly testing and tagging as per statutory requirements. - All tools and equipment that are used shall be maintained in accordance with manufacturers recommendations, have required guards in place, and are in good working order. - Dedicated tool storage. -All works to be conducted by licensened tradesperson (electricians, etc.) -Drawings of all delivered electrical equipment reviewed prior to energisation. -Correct equipment and PPE available and in-use for HV work. - Electrical Plant register to be maintained to identify all equipment subject to quarterly inspections. - Inspections by qualified electrical tradespersons and defective items placed out of service until fixed. - VRD's on all welding machines. - Visual inspection of all electrical equipment prior to use" - Earth breaker protections on all 240 v outputs and inspected as per schedule. - Electrical installations by qualified electrical tradespersons only. - All electrical installations and equipment shall comply with AS/NZS 3000-2007 electrical requirements. " - Electrical installations by qualified electrical tradespersons only. - Inspections by qualified electrical tradespersons and defective items placed out of service until fixed. - No unauthorised equipment on site - Defective items placed out of service until fixed. - Experienced competent / qualified electrical personnel (VoC'd) . | R15: Health & Safety | S15: Severe | T15: Rare | U15: =IFERROR(INDEX(Matrix!$C$2:$G$6,MATCH(T15,Matrix!$B$2:$B$6,0),MATCH(S15,Matrix!$C$1:$G$1,0)),"") -> Medium | V15: =IFERROR(INDEX(Matrix!$C$9:$G$13,MATCH(T15,Matrix!$B$9:$B$13,0),MATCH(S15,Matrix!$C$8:$G$8,0)),"") -> 15 | W15: =CONCATENATE(U15," ",V15) -> Medium 15 | Y15: Actions in Progress - 25% | Z15: EAS Manager | AA15: H&S Managers
D16: =TEXT(ROW(A11),"CR-00") -> CR-11 | E16: Safety | F16: Critical | G16: Hot Works | H16: • Ergonomics • Lighting • Radiation energy | I16: • Critical Injury • Permanent disability • One or more fatalities | J16: KWI | K16: Health & Safety | L16: Severe | M16: Likely | N16: =IFERROR(INDEX(Matrix!$C$2:$G$6,MATCH(M16,Matrix!$B$2:$B$6,0),MATCH(L16,Matrix!$C$1:$G$1,0)),"") -> Extreme | O16: =IFERROR(INDEX(Matrix!$C$9:$G$13,MATCH(M16,Matrix!$B$9:$B$13,0),MATCH(L16,Matrix!$C$8:$G$8,0)),"") -> 24 | P16: =CONCATENATE(N16," ",O16) -> Extreme 24 | Q16: • Hot work permit • Hot work procedure • Designated hot work area register | R16: Health & Safety | S16: Severe | T16: Unlikely | U16: =IFERROR(INDEX(Matrix!$C$2:$G$6,MATCH(T16,Matrix!$B$2:$B$6,0),MATCH(S16,Matrix!$C$1:$G$1,0)),"") -> High | V16: =IFERROR(INDEX(Matrix!$C$9:$G$13,MATCH(T16,Matrix!$B$9:$B$13,0),MATCH(S16,Matrix!$C$8:$G$8,0)),"") -> 19 | W16: =CONCATENATE(U16," ",V16) -> High 19 | Y16: Actions in Progress - 25% | Z16: EAS Manager | AA16: H&S Managers
D17: =TEXT(ROW(A12),"CR-00") -> CR-12 | E17: Health | F17: Critical | G17: Psychosocial | H17: • Work environment | I17: • Critical Injury • Permanent disability • One or more fatalities | J17: KWI | K17: Health & Safety | L17: Severe | M17: Likely | N17: =IFERROR(INDEX(Matrix!$C$2:$G$6,MATCH(M17,Matrix!$B$2:$B$6,0),MATCH(L17,Matrix!$C$1:$G$1,0)),"") -> Extreme | O17: =IFERROR(INDEX(Matrix!$C$9:$G$13,MATCH(M17,Matrix!$B$9:$B$13,0),MATCH(L17,Matrix!$C$8:$G$8,0)),"") -> 24 | P17: =CONCATENATE(N17," ",O17) -> Extreme 24 | Q17: - EAP - Mates at Work - DMIRS Audit - Mental Health First Aid for supervisors - Toolbox topic on mental wellbeing (daily) - Mental Health campaigns (R U OK) | R17: Health & Safety | S17: Severe | T17: Unlikely | U17: =IFERROR(INDEX(Matrix!$C$2:$G$6,MATCH(T17,Matrix!$B$2:$B$6,0),MATCH(S17,Matrix!$C$1:$G$1,0)),"") -> High | V17: =IFERROR(INDEX(Matrix!$C$9:$G$13,MATCH(T17,Matrix!$B$9:$B$13,0),MATCH(S17,Matrix!$C$8:$G$8,0)),"") -> 19 | W17: =CONCATENATE(U17," ",V17) -> High 19 | Y17: Actions in Progress - 25% | Z17: EAS Manager | AA17: H&S Managers
D18: =TEXT(ROW(A13),"CR-00") -> CR-13 | E18: Safety | F18: Critical | G18: Explosives | H18: • Noise and vibration • Pressure • Thermal/Fire/Explosion energy | I18: • Critical Injury • Permanent disability • One or more fatalities | J18: KWI | K18: Health & Safety | L18: Severe | M18: Likely | N18: =IFERROR(INDEX(Matrix!$C$2:$G$6,MATCH(M18,Matrix!$B$2:$B$6,0),MATCH(L18,Matrix!$C$1:$G$1,0)),"") -> Extreme | O18: =IFERROR(INDEX(Matrix!$C$9:$G$13,MATCH(M18,Matrix!$B$9:$B$13,0),MATCH(L18,Matrix!$C$8:$G$8,0)),"") -> 24 | P18: =CONCATENATE(N18," ",O18) -> Extreme 24 | Q18: • Theft Of Detonators And Explosives, Hazardous Chemicals, Plant Equipment And Fuels - Trigger Response Plan Guideline (Tarp) | R18: Health & Safety | S18: Severe | T18: Unlikely | U18: =IFERROR(INDEX(Matrix!$C$2:$G$6,MATCH(T18,Matrix!$B$2:$B$6,0),MATCH(S18,Matrix!$C$1:$G$1,0)),"") -> High | V18: =IFERROR(INDEX(Matrix!$C$9:$G$13,MATCH(T18,Matrix!$B$9:$B$13,0),MATCH(S18,Matrix!$C$8:$G$8,0)),"") -> 19 | W18: =CONCATENATE(U18," ",V18) -> High 19 | Y18: Actions in Progress - 25% | Z18: EAS Manager | AA18: H&S Managers
... D21: =TEXT(ROW(A16),"CR-00") -> CR-16 | E21: Safety | F21: Critical | G21: Traffic Management | H21: • Climatic natural events • Lighting • Mechanical Energy - Breakdown of communication between personnel - Failure to delineate the worksite - Congested work areas - Distracted pedestrians - Blind corners around the worksite - Poor parking practices (parking too close to work area) | I21: • Critical Injury • Permanent disability • One or more fatalities | J21: KWI | K21: Health & Safety | L21: Severe | M21: Likely | N21: =IFERROR(INDEX(Matrix!$C$2:$G$6,MATCH(M21,Matrix!$B$2:$B$6,0),MATCH(L21,Matrix!$C$1:$G$1,0)),"") -> Extreme | O21: =IFERROR(INDEX(Matrix!$C$9:$G$13,MATCH(M21,Matrix!$B$9:$B$13,0),MATCH(L21,Matrix!$C$8:$G$8,0)),"") -> 24 | P21: =CONCATENATE(N21," ",O21) -> Extreme 24 | Q21: - Positive Communications between personnel - Barricading around the worksite - Spotter for any heavy vehicle movement in congested areas - Designated pedestrian areas - Job planning - Prestart meetings - Barricading around work areas and signage - Barricading around process equipment near roads - Adherence to mobile phone approval and use on site - Positive Communications between personnel - Barricading around work areas and signage - Barricading around process equipment near roads - Traffic Management Plan - Designated parking areas | R21: Health & Safety | S21: Severe | T21: Unlikely | U21: =IFERROR(INDEX(Matrix!$C$2:$G$6,MATCH(T21,Matrix!$B$2:$B$6,0),MATCH(S21,Matrix!$C$1:$G$1,0)),"") -> High | V21: =IFERROR(INDEX(Matrix!$C$9:$G$13,MATCH(T21,Matrix!$B$9:$B$13,0),MATCH(S21,Matrix!$C$8:$G$8,0)),"") -> 19 | W21: =CONCATENATE(U21," ",V21) -> High 19 | Y21: Actions in Progress - 25% | Z21: EAS Manager | AA21: H&S Managers

Sheet TBRA
G2: Stack Extension - Structural frame build & stack installation
G3: SOW: Installation of structural frame and stack extension to 97m (SRG Global) 21 May - 15 Jun
C5: Activity | D5: Risk ID | E5: Category | F5: Risk Type | G5: Activity | H5: Hazard | I5: Risk | J5: Site Applicable to | K5: Consequence Category (Inherent) | L5: Consequence (Inherent) | M5: Probability (Inherent) | N5: Inherent Risk Level | O5: Inherent Risk Score | P5: Inherent Risk Rating | Q5: Existing Controls in place | R5: Consequence Category (Residual) | S5: Consequence (Residual) | T5: Probability (Residual) | U5: Residual Risk Level | V5: Residual Risk Score | W5: Residual Risk Rating | X5: Treatment Action Plan | Y5: TAP Status | Z5: TAP Owner (Accountable) | AA5: TAP Delegate (Responsible) | AB5: Date Endorsed | AC5: Date of next Review
D6: =TEXT(ROW(A1),"R-00") -> R-01 | E6: Safety | F6: Operational | G6: Pre-mobilisation - Induction, PTW, PH and Site Famil | N6: =IFERROR(INDEX(Matrix!$C$2:$G$6,MATCH(M6,Matrix!$B$2:$B$6,0),MATCH(L6,Matrix!$C$1:$G$1,0)),"") | O6: =IFERROR(INDEX(Matrix!$C$9:$G$13,MATCH(M6,Matrix!$B$9:$B$13,0),MATCH(L6,Matrix!$C$8:$G$8,0)),"") | P6: =CONCATENATE(N6," ",O6) | U6: =IFERROR(INDEX(Matrix!$C$2:$G$6,MATCH(T6,Matrix!$B$2:$B$6,0),MATCH(S6,Matrix!$C$1:$G$1,0)),"") | V6: =IFERROR(INDEX(Matrix!$C$9:$G$13,MATCH(T6,Matrix!$B$9:$B$13,0),MATCH(S6,Matrix!$C$8:$G$8,0)),"") | W6: =CONCATENATE(U6," ",V6)
C7: 10000 20000 | D7: =TEXT(ROW(A2),"R-00") -> R-02 | E7: Safety | F7: Critical | G7: Mobilise people, equipment and office containers, | I7: Delay in mobilising people, plant & equipment | J7: KWI | K7: Schedule | L7: Major | M7: Possible | N7: =IFERROR(INDEX(Matrix!$C$2:$G$6,MATCH(M7,Matrix!$B$2:$B$6,0),MATCH(L7,Matrix!$C$1:$G$1,0)),"") -> High | O7: =IFERROR(INDEX(Matrix!$C$9:$G$13,MATCH(M7,Matrix!$B$9:$B$13,0),MATCH(L7,Matrix!$C$8:$G$8,0)),"") -> 18 | P7: =CONCATENATE(N7," ",O7) -> High 18 | Q7: - Portable offices to be inspected and approved by COV electrical dept, - Laydown yard has been allocated by Covalent, - Vehicles and mobile equipment to be mobilised including: vans, 3 x utes, telehandler, franna - people mobilisation - site induction, Permit holder training, site famil to be completed, **clarify if contract supervisor can do site famil?** - **PPE requirements - **email PPE site maps (Deepak)** - **Chemical boots - exemption is to be given by Craig & Chris (COV)** - **DAP training required. DAP will be provided by COV. - **Radios to be provided by COV (Craig)** | R7: Health & Safety | S7: Moderate | T7: Possible | U7: =IFERROR(INDEX(Matrix!$C$2:$G$6,MATCH(T7,Matrix!$B$2:$B$6,0),MATCH(S7,Matrix!$C$1:$G$1,0)),"") -> Medium | V7: =IFERROR(INDEX(Matrix!$C$9:$G$13,MATCH(T7,Matrix!$B$9:$B$13,0),MATCH(S7,Matrix!$C$8:$G$8,0)),"") -> 13 | W7: =CONCATENATE(U7," ",V7) -> Medium 13 | X7: - Portable offices to be inspected and approved by COV electrical dept, - Laydown yard has been allocated by Covalent, - Vehicles and mobile equipment to be mobilised including: vans, 3 x utes, telehandler, franna - people mobilisation - site induction, Permit holder training, site famil to be completed, **clarify if contract supervisor can do site famil?** - **PPE requirements - **email PPE site maps (Deepak)** - **Chemical boots - exemption is to be given by Craig & Chris (COV)** - **DAP training required. DAP will be provided by COV. - **Radios to be provided by COV (Craig)**
D8: =TEXT(ROW(A3),"R-00") -> R-03 | E8: Safety | F8: Critical | G8: Job setup | H8: moving traffic, plant operational. | I8: • Critical Injury • Permanent disability • One or more fatalities | J8: KWI | K8: Health & Safety | L8: Major | M8: Possible | N8: =IFERROR(INDEX(Matrix!$C$2:$G$6,MATCH(M8,Matrix!$B$2:$B$6,0),MATCH(L8,Matrix!$C$1:$G$1,0)),"") -> High | O8: =IFERROR(INDEX(Matrix!$C$9:$G$13,MATCH(M8,Matrix!$B$9:$B$13,0),MATCH(L8,Matrix!$C$8:$G$8,0)),"") -> 18 | P8: =CONCATENATE(N8," ",O8) -> High 18 | Q8: - barricading, exclusion zone. Roads around calciners 1&2 and acid roasts 1&2. - when crane boom is down, road needs closed 120m (between calc1 and AR2) - Planning meeting 7am daily to discuss SIMOPS. - crane lowers when 9.8m/s wind speed. - Crane operations only on D/S. - **Need laydowndown area for crane - COV (Deepak) - Modules 1-3 uses smaller crane (130t) - set exclusion zone for the steel frames. - no underground services - already checked during civil works - above ground services - - **Deepak to provide drawings on services (under and above ground) - ground compaction test has been done. **Deepak to provide Traffic: - traffic for 3.5m length, 3m height - clearance is okay, designated pathway? - Deepak to provide Traffic Flow Diagram - enter gate 1, go on ring road, turn into calciner road. - **Thanes to provide traffic diagram and Craig to review (for truck traffic flow) - Truck driver will be escorted. or complete induction. - One day notice to gatehouse - for any deliveries. Provide how many trucks and content, | R8: Health & Safety | S8: Moderate | T8: Unlikely | U8: =IFERROR(INDEX(Matrix!$C$2:$G$6,MATCH(T8,Matrix!$B$2:$B$6,0),MATCH(S8,Matrix!$C$1:$G$1,0)),"") -> Medium | V8: =IFERROR(INDEX(Matrix!$C$9:$G$13,MATCH(T8,Matrix!$B$9:$B$13,0),MATCH(S8,Matrix!$C$8:$G$8,0)),"") -> 9 | W8: =CONCATENATE(U8," ",V8) -> Medium 9 | X8: - barricading, exclusion zone. Roads around calciners 1&2 and acid roasts 1&2. - when crane boom is down, road needs closed 120m (between calc1 and AR2) - Planning meeting 7am daily to discuss SIMOPS. - crane lowers when 9.8m/s wind speed. - Crane operations only on D/S. - **Need laydowndown area for crane - COV (Deepak) - Modules 1-3 uses smaller crane (130t) - set exclusion zone for the steel frames. - no underground services - already checked during civil works - above ground services - - **Deepak to provide drawings on services (under and above ground) - ground compaction test has been done. **Deepak to provide Traffic: - traffic for 3.5m length, 3m height - clearance is okay, designated pathway? - Deepak to provide Traffic Flow Diagram - enter gate 1, go on ring road, turn into calciner road. - **Thanes to provide traffic diagram and Craig to review (for truck traffic flow) - Truck driver will be escorted. or complete induction. - One day notice to gatehouse - for any deliveries. Provide how many trucks and content,
D9: =TEXT(ROW(A4),"R-00") -> R-04 | E9: Safety | F9: Critical | G9: Train 1 - Install structural frame module 1 | H9: Cranes & lifting - dropped objects, suspended loads, Hot work - fire risks SIMOPS - calciner operational | I9: Cranes & Lifting: • Critical Injury • Permanent disability • One or more fatalities Demolition: - SIMOPS, - interaction with traffic & HMEs | J9: KWI | K9: Health & Safety | L9: Severe | M9: Possible | N9: =IFERROR(INDEX(Matrix!$C$2:$G$6,MATCH(M9,Matrix!$B$2:$B$6,0),MATCH(L9,Matrix!$C$1:$G$1,0)),"") -> High | O9: =IFERROR(INDEX(Matrix!$C$9:$G$13,MATCH(M9,Matrix!$B$9:$B$13,0),MATCH(L9,Matrix!$C$8:$G$8,0)),"") -> 22 | P9: =CONCATENATE(N9," ",O9) -> High 22 | Q9: - Lifting plan to be reviewed/approved by Covalent Representative. - Designated SME and or qualified supervisor to determine the methods, equipment and develop plans for all lifting - PTW stage 1 - no isolation, stage 2 - with isolation. - 30 people working at once. - COV to setup remote lockbox in the field. - T2 stack extension - date from 22 Jun & planning **Raj to plan with Garth/Chris - Overload protection on the cranes - Designated crane radio channel in place (separate radio channel between crane operator, rigger and spotter) - Positive Communication – Lifting activity stops if communication lost occur - Adequate barricading & exclusion zone - High Risk License for all crane operators, dogman and riggers and Verification of competency - Personnel cage procedure and approvals: Certified and registered Personnel cage includes tags and SWL - Daily pre-start checks & recording systems - Manufacturers test certification to accompany all lifting and rigging equipment. - Visual inspections to be conducted prior to each use of all lifting equipment including lifting lugs - Registration, certification, annual inspection, testing and maintenance documentation required prior to mobilisation of lifting and rigging equipment. - Adequate storage facility provided for all lifting equipment - Lifting equipment to be inspected at 3 monthly intervals by a competent person, tagged and documented in a Rigging Register. " - Daily weather forecast at prestart included in job planning - Wind speed cut off for crane operations (9m/s) - Spotters to be used on all occasions during operations. - SWMS to include Crane activities, congestion risks and controls. | R9: Health & Safety | S9: Severe | T9: Unlikely | U9: =IFERROR(INDEX(Matrix!$C$2:$G$6,MATCH(T9,Matrix!$B$2:$B$6,0),MATCH(S9,Matrix!$C$1:$G$1,0)),"") -> High | V9: =IFERROR(INDEX(Matrix!$C$9:$G$13,MATCH(T9,Matrix!$B$9:$B$13,0),MATCH(S9,Matrix!$C$8:$G$8,0)),"") -> 19 | W9: =CONCATENATE(U9," ",V9) -> High 19 | X9: - Lifting plan to be reviewed/approved by Covalent Representative. - Designated SME and or qualified supervisor to determine the methods, equipment and develop plans for all lifting - PTW stage 1 - no isolation, stage 2 - with isolation. - 30 people working at once. - **COV to setup remote lockbox in the field (Chris Calvert) - T2 stack extension - date from 22 Jun & planning **Raj to plan with Garth/Chris
D10: =TEXT(ROW(A5),"R-00") -> R-05 | E10: Safety | F10: Critical | G10: Train 1 Install module 2. | H10: Cranes & lifting - dropped objects, suspended loads, EWP. Hot work Traffic - interactions with vehicles/ pedestrians | I10: • Critical Injury • Permanent disability • One or more fatalities | J10: KWI | K10: Health & Safety | L10: Severe | M10: Possible | N10: =IFERROR(INDEX(Matrix!$C$2:$G$6,MATCH(M10,Matrix!$B$2:$B$6,0),MATCH(L10,Matrix!$C$1:$G$1,0)),"") -> High | O10: =IFERROR(INDEX(Matrix!$C$9:$G$13,MATCH(M10,Matrix!$B$9:$B$13,0),MATCH(L10,Matrix!$C$8:$G$8,0)),"") -> 22 | P10: =CONCATENATE(N10," ",O10) -> High 22 | Q10: - Uneven ground. Gas line above. - **Crane Corp - confirm on crane location & develop lifting plan. COV to review and approve. - Gas line into ARC - barricade around gas lines to prevent interactions - Need info - all services in the area - **Deepak to provide drawings for all services under and above ground. - Preassembly on western side of the stack. -Traffic management plan - site road design & parking layout. - Site signage - Inductions & expectations reinforced - Drivers licenses reviewed and entered into onboarding records. - D&A testing regime in place - Adherance to FFW and Fatigue protocols. - Health and safety management plan, VOC and Licensing requirements. - Work place inspections, Task Obs. - Daily pre-start inspection on vehicle - Regulated speed and minimise vehicle movement, monitor and assess. - SIMOPS review prior to starting work | R10: Health & Safety | S10: Severe | T10: Unlikely | U10: =IFERROR(INDEX(Matrix!$C$2:$G$6,MATCH(T10,Matrix!$B$2:$B$6,0),MATCH(S10,Matrix!$C$1:$G$1,0)),"") -> High | V10: =IFERROR(INDEX(Matrix!$C$9:$G$13,MATCH(T10,Matrix!$B$9:$B$13,0),MATCH(S10,Matrix!$C$8:$G$8,0)),"") -> 19 | W10: =CONCATENATE(U10," ",V10) -> High 19 | X10: - Uneven ground. Gas line above. - **Crane Corp - confirm on crane location & develop lifting plan. COV to review and approve. - Gas line into ARC - barricade around gas lines to prevent interactions - Need info - all services in the area - **Deepak to provide drawings for all services under and above ground.
D11: 4 | E11: Safety | F11: Critical | G11: Train 1 Deconstruct the stack (above 1st flange) | H11: Cranes & lifting - dropped objects, suspended loads, Working at heights, Dropped objects | I11: • Critical Injury • Permanent disability • One or more fatalities | J11: KWI | K11: Health & Safety | L11: Severe | M11: Likely | N11: =IFERROR(INDEX(Matrix!$C$2:$G$6,MATCH(M11,Matrix!$B$2:$B$6,0),MATCH(L11,Matrix!$C$1:$G$1,0)),"") -> Extreme | O11: =IFERROR(INDEX(Matrix!$C$9:$G$13,MATCH(M11,Matrix!$B$9:$B$13,0),MATCH(L11,Matrix!$C$8:$G$8,0)),"") -> 24 | P11: =CONCATENATE(N11," ",O11) -> Extreme 24 | Q11: All of the above | R11: Health & Safety | S11: Severe | T11: Unlikely | U11: =IFERROR(INDEX(Matrix!$C$2:$G$6,MATCH(T11,Matrix!$B$2:$B$6,0),MATCH(S11,Matrix!$C$1:$G$1,0)),"") -> High | V11: =IFERROR(INDEX(Matrix!$C$9:$G$13,MATCH(T11,Matrix!$B$9:$B$13,0),MATCH(S11,Matrix!$C$8:$G$8,0)),"") -> 19 | W11: =CONCATENATE(U11," ",V11) -> High 19
D12: 5 | E12: Safety | F12: Operational | G12: Train 1 Preassembly module 3, | H12: Cranes & lifting - dropped objects, suspended loads, Work at Height - Dropped objects - SIMOPS - shutdown activities around | I12: • Critical Injury • Permanent disability • One or more fatalities | J12: KWI | K12: Health & Safety | L12: Severe | M12: Likely | N12: =IFERROR(INDEX(Matrix!$C$2:$G$6,MATCH(M12,Matrix!$B$2:$B$6,0),MATCH(L12,Matrix!$C$1:$G$1,0)),"") -> Extreme | O12: =IFERROR(INDEX(Matrix!$C$9:$G$13,MATCH(M12,Matrix!$B$9:$B$13,0),MATCH(L12,Matrix!$C$8:$G$8,0)),"") -> 24 | P12: =CONCATENATE(N12," ",O12) -> Extreme 24 | Q12: - Preassembly on eastern side, - uneven ground - **Deepak - level the ground & put the plate (SRG) - W@H, EWP, pipe rack nearby - Heights Rescue - Trigger Response Plan Guideline (Tarp) - All rope access personnel must have in-date IRATA certification - Use only certified and recognised anchor points - Rope Access Pre-start checklist have been completed - SWMS, Rescue Plan and 5x5 has been developed agreed and in place - All rope access equipment shall undergo a pre-use and 6 monthly detailed inspection - Adhere to Contractor rope access operational procedure and IRATA International Code of Practice (ICOP) | R12: Health & Safety | S12: Severe | T12: Unlikely | U12: =IFERROR(INDEX(Matrix!$C$2:$G$6,MATCH(T12,Matrix!$B$2:$B$6,0),MATCH(S12,Matrix!$C$1:$G$1,0)),"") -> High | V12: =IFERROR(INDEX(Matrix!$C$9:$G$13,MATCH(T12,Matrix!$B$9:$B$13,0),MATCH(S12,Matrix!$C$8:$G$8,0)),"") -> 19 | W12: =CONCATENATE(U12," ",V12) -> High 19
D13: =TEXT(ROW(A8),"R-00") -> R-08 | E13: Safety | F13: Critical | G13: Train 1 Stack demolition | H13: Cranes & lifting - dropped objects, suspended loads, Work at Height - Dropped objects - SIMOPS - shutdown activities around | I13: • Critical Injury • Permanent disability • One or more fatalities | J13: KWI | K13: Health & Safety | L13: Severe | M13: Likely | N13: =IFERROR(INDEX(Matrix!$C$2:$G$6,MATCH(M13,Matrix!$B$2:$B$6,0),MATCH(L13,Matrix!$C$1:$G$1,0)),"") -> Extreme | O13: =IFERROR(INDEX(Matrix!$C$9:$G$13,MATCH(M13,Matrix!$B$9:$B$13,0),MATCH(L13,Matrix!$C$8:$G$8,0)),"") -> 24 | P13: =CONCATENATE(N13," ",O13) -> Extreme 24 | Q13: - All of the above controls, - interaction risk with structures around, - mancage, cranes & lifting - Positioning the crane is critical. **Crane Corp to develop the lifting plan, - Two mancages are required - Crane Corp to provide - **Craig (COV) to develop Rescue plan - use 2-3 spotters Dropped objects: - all tools will be lanyarded - SRG to provide and ensure - bolts will be on lifting bags, which are connected to lanyards - SRG to provide and ensure | R13: Health & Safety | S13: Severe | T13: Unlikely | U13: =IFERROR(INDEX(Matrix!$C$2:$G$6,MATCH(T13,Matrix!$B$2:$B$6,0),MATCH(S13,Matrix!$C$1:$G$1,0)),"") -> High | V13: =IFERROR(INDEX(Matrix!$C$9:$G$13,MATCH(T13,Matrix!$B$9:$B$13,0),MATCH(S13,Matrix!$C$8:$G$8,0)),"") -> 19 | W13: =CONCATENATE(U13," ",V13) -> High 19 | X13: - Positioning the crane is critical. **Crane Corp to develop the lifting plan, - Two mancages are required - Crane Corp to provide - **Craig (COV) to develop Rescue plan - use 2-3 spotters Dropped objects: - all tools will be lanyarded - SRG to provide and ensure - bolts will be on lifting bags, which are connected to lanyards - SRG to provide and ensure
D14: =TEXT(ROW(A9),"R-00") -> R-09 | E14: Safety | F14: Critical | G14: Train 1 Assembly module 2 to module 1 | H14: Cranes & lifting - dropped objects, suspended loads, Work at Height - Dropped objects - SIMOPS - shutdown activities around | I14: • Critical Injury • Permanent disability • One or more fatalities | J14: KWI | K14: Health & Safety | L14: Severe | M14: Likely | N14: =IFERROR(INDEX(Matrix!$C$2:$G$6,MATCH(M14,Matrix!$B$2:$B$6,0),MATCH(L14,Matrix!$C$1:$G$1,0)),"") -> Extreme | O14: =IFERROR(INDEX(Matrix!$C$9:$G$13,MATCH(M14,Matrix!$B$9:$B$13,0),MATCH(L14,Matrix!$C$8:$G$8,0)),"") -> 24 | P14: =CONCATENATE(N14," ",O14) -> Extreme 24 | Q14: - All of the above controls, - EWP and cranage. - Guiding the load - push pull stick and double tag line | R14: Health & Safety | S14: Severe | T14: Unlikely | U14: =IFERROR(INDEX(Matrix!$C$2:$G$6,MATCH(T14,Matrix!$B$2:$B$6,0),MATCH(S14,Matrix!$C$1:$G$1,0)),"") -> High | V14: =IFERROR(INDEX(Matrix!$C$9:$G$13,MATCH(T14,Matrix!$B$9:$B$13,0),MATCH(S14,Matrix!$C$8:$G$8,0)),"") -> 19 | W14: =CONCATENATE(U14," ",V14) -> High 19
D15: =TEXT(ROW(A10),"R-00") -> R-10 | E15: Safety | F15: Critical | G15: Train 1 Install stack pipe segments C&D | H15: Cranes & lifting - dropped objects, suspended loads, Work at Height - Dropped objects - SIMOPS - shutdown activities around | I15: • Critical Injury • Permanent disability • One or more fatalities | J15: KWI | K15: Health & Safety | L15: Severe | M15: Likely | N15: =IFERROR(INDEX(Matrix!$C$2:$G$6,MATCH(M15,Matrix!$B$2:$B$6,0),MATCH(L15,Matrix!$C$1:$G$1,0)),"") -> Extreme | O15: =IFERROR(INDEX(Matrix!$C$9:$G$13,MATCH(M15,Matrix!$B$9:$B$13,0),MATCH(L15,Matrix!$C$8:$G$8,0)),"") -> 24 | P15: =CONCATENATE(N15," ",O15) -> Extreme 24 | Q15: - All of the above controls | R15: Health & Safety | S15: Severe | T15: Unlikely | U15: =IFERROR(INDEX(Matrix!$C$2:$G$6,MATCH(T15,Matrix!$B$2:$B$6,0),MATCH(S15,Matrix!$C$1:$G$1,0)),"") -> High | V15: =IFERROR(INDEX(Matrix!$C$9:$G$13,MATCH(T15,Matrix!$B$9:$B$13,0),MATCH(S15,Matrix!$C$8:$G$8,0)),"") -> 19 | W15: =CONCATENATE(U15," ",V15) -> High 19
D16: =TEXT(ROW(A11),"R-00") -> R-11 | E16: Safety | F16: Critical | G16: Train 1 Install module 3 | H16: Cranes & lifting - dropped objects, suspended loads, Work at Height - Dropped objects - SIMOPS - shutdown activities around | I16: • Critical Injury • Permanent disability • One or more fatalities | J16: KWI | K16: Health & Safety | L16: Severe | M16: Likely | N16: =IFERROR(INDEX(Matrix!$C$2:$G$6,MATCH(M16,Matrix!$B$2:$B$6,0),MATCH(L16,Matrix!$C$1:$G$1,0)),"") -> Extreme | O16: =IFERROR(INDEX(Matrix!$C$9:$G$13,MATCH(M16,Matrix!$B$9:$B$13,0),MATCH(L16,Matrix!$C$8:$G$8,0)),"") -> 24 | P16: =CONCATENATE(N16," ",O16) -> Extreme 24 | Q16: - All of the above controls - rope access personnel - internal bolts assembly - **SRG will provide rescue plan - COV to review | R16: Health & Safety | S16: Severe | T16: Unlikely | U16: =IFERROR(INDEX(Matrix!$C$2:$G$6,MATCH(T16,Matrix!$B$2:$B$6,0),MATCH(S16,Matrix!$C$1:$G$1,0)),"") -> High | V16: =IFERROR(INDEX(Matrix!$C$9:$G$13,MATCH(T16,Matrix!$B$9:$B$13,0),MATCH(S16,Matrix!$C$8:$G$8,0)),"") -> 19 | W16: =CONCATENATE(U16," ",V16) -> High 19 | X16: - **SRG will provide rescue plan - COV to review
D17: =TEXT(ROW(A12),"R-00") -> R-12 | E17: Safety | F17: Critical | G17: Train 1 Install segments E | H17: Cranes & lifting - dropped objects, suspended loads, Work at Height - Dropped objects - SIMOPS - shutdown activities around | I17: • Critical Injury • Permanent disability • One or more fatalities | J17: KWI | K17: Health & Safety | L17: Severe | M17: Likely | N17: =IFERROR(INDEX(Matrix!$C$2:$G$6,MATCH(M17,Matrix!$B$2:$B$6,0),MATCH(L17,Matrix!$C$1:$G$1,0)),"") -> Extreme | O17: =IFERROR(INDEX(Matrix!$C$9:$G$13,MATCH(M17,Matrix!$B$9:$B$13,0),MATCH(L17,Matrix!$C$8:$G$8,0)),"") -> 24 | P17: =CONCATENATE(N17," ",O17) -> Extreme 24 | Q17: - All of the above controls | R17: Health & Safety | S17: Severe | T17: Unlikely | U17: =IFERROR(INDEX(Matrix!$C$2:$G$6,MATCH(T17,Matrix!$B$2:$B$6,0),MATCH(S17,Matrix!$C$1:$G$1,0)),"") -> High | V17: =IFERROR(INDEX(Matrix!$C$9:$G$13,MATCH(T17,Matrix!$B$9:$B$13,0),MATCH(S17,Matrix!$C$8:$G$8,0)),"") -> 19 | W17: =CONCATENATE(U17," ",V17) -> High 19
D18: =TEXT(ROW(A13),"R-00") -> R-13 | E18: Safety | F18: Critical | G18: Train 1 Install module 4 (already preassembled) | H18: As above | I18: As above | J18: KWI | K18: Health & Safety | L18: Severe | M18: Likely | N18: =IFERROR(INDEX(Matrix!$C$2:$G$6,MATCH(M18,Matrix!$B$2:$B$6,0),MATCH(L18,Matrix!$C$1:$G$1,0)),"") -> Extreme | O18: =IFERROR(INDEX(Matrix!$C$9:$G$13,MATCH(M18,Matrix!$B$9:$B$13,0),MATCH(L18,Matrix!$C$8:$G$8,0)),"") -> 24 | P18: =CONCATENATE(N18," ",O18) -> Extreme 24 | Q18: - All of the above controls | R18: Health & Safety | S18: Severe | T18: Unlikely | U18: =IFERROR(INDEX(Matrix!$C$2:$G$6,MATCH(T18,Matrix!$B$2:$B$6,0),MATCH(S18,Matrix!$C$1:$G$1,0)),"") -> High | V18: =IFERROR(INDEX(Matrix!$C$9:$G$13,MATCH(T18,Matrix!$B$9:$B$13,0),MATCH(S18,Matrix!$C$8:$G$8,0)),"") -> 19 | W18: =CONCATENATE(U18," ",V18) -> High 19
D19: =TEXT(ROW(A14),"R-00") -> R-14 | E19: Safety | F19: Critical | G19: Train 1 Install segment F | H19: As above | I19: As above | J19: KWI | K19: Health & Safety | L19: Severe | M19: Likely | N19: =IFERROR(INDEX(Matrix!$C$2:$G$6,MATCH(M19,Matrix!$B$2:$B$6,0),MATCH(L19,Matrix!$C$1:$G$1,0)),"") -> Extreme | O19: =IFERROR(INDEX(Matrix!$C$9:$G$13,MATCH(M19,Matrix!$B$9:$B$13,0),MATCH(L19,Matrix!$C$8:$G$8,0)),"") -> 24 | P19: =CONCATENATE(N19," ",O19) -> Extreme 24 | Q19: - All of the above controls | R19: Health & Safety | S19: Severe | T19: Unlikely | U19: =IFERROR(INDEX(Matrix!$C$2:$G$6,MATCH(T19,Matrix!$B$2:$B$6,0),MATCH(S19,Matrix!$C$1:$G$1,0)),"") -> High | V19: =IFERROR(INDEX(Matrix!$C$9:$G$13,MATCH(T19,Matrix!$B$9:$B$13,0),MATCH(S19,Matrix!$C$8:$G$8,0)),"") -> 19 | W19: =CONCATENATE(U19," ",V19) -> High 19
